BEGIN:VCALENDAR
VERSION:2.0
PRODID:-//Connecting your Vision - ECPv6.15.20//NONSGML v1.0//EN
CALSCALE:GREGORIAN
METHOD:PUBLISH
X-WR-CALNAME:Connecting your Vision
X-ORIGINAL-URL:https://connectingyourvision.org
X-WR-CALDESC:Events for Connecting your Vision
REFRESH-INTERVAL;VALUE=DURATION:PT1H
X-Robots-Tag:noindex
X-PUBLISHED-TTL:PT1H
BEGIN:VTIMEZONE
TZID:UTC
BEGIN:STANDARD
TZOFFSETFROM:+0000
TZOFFSETTO:+0000
TZNAME:UTC
DTSTART:20240101T000000
END:STANDARD
END:VTIMEZONE
BEGIN:VEVENT
DTSTART;TZID=UTC:20250914T100000
DTEND;TZID=UTC:20250916T140000
DTSTAMP:20260420T024743
CREATED:20250811T172214Z
LAST-MODIFIED:20250819T155145Z
UID:23346-1757844000-1758031200@connectingyourvision.org
SUMMARY:As a Born-Again Believer\, Claim What is Yours!
DESCRIPTION:As a Born-Again Believer\, Claim What is Yours! \n\n\nJoin us at Truth and Fire Ministries in Las Cruces\, NM\, for a powerful week of services that will ignite your faith!\n\n\n September 14th to 20th\, 2025\n Hosted by Senior Pastors Sage & Danah Theurer\n Special Guests: Dr. Randy & Vicki Hooper\n\n\n Location: 102 W. Conway Ave\, Las Cruces\, NM 88005\n\n\n Service Schedule:\n\n\nSunday Morning Service – 10:00 AM (MTZ)\n\n\nMonday to Friday Night Services – 6:30 PM\n\n\nSaturday Leaders Meeting\n\n\nDon’t miss this divine appointment! Come ready to receive what God has prepared for you. \n\n\n\n\n\n“Don’t Miss the Supernatural Move – Save Your Spot” \n\n\n\n\n\n\n\n\n  \n\n\n\n Your name\n \n \n Your email\n \n \n Subject\n \n \n Your message (optional)
URL:https://connectingyourvision.org/event/as-a-born-again-believer-claim-what-is-yours/
CATEGORIES:Church
ATTACH;FMTTYPE=image/png:https://connectingyourvision.org/wp-content/uploads/2025/08/Truth-and-Fire-Ministries-POST.png
END:VEVENT
END:VCALENDAR