BEGIN:VCALENDAR
VERSION:2.0
PRODID:-//Connecting your Vision - ECPv6.15.20//NONSGML v1.0//EN
CALSCALE:GREGORIAN
METHOD:PUBLISH
X-WR-CALNAME:Connecting your Vision
X-ORIGINAL-URL:https://connectingyourvision.org
X-WR-CALDESC:Events for Connecting your Vision
REFRESH-INTERVAL;VALUE=DURATION:PT1H
X-Robots-Tag:noindex
X-PUBLISHED-TTL:PT1H
BEGIN:VTIMEZONE
TZID:UTC
BEGIN:STANDARD
TZOFFSETFROM:+0000
TZOFFSETTO:+0000
TZNAME:UTC
DTSTART:20230101T000000
END:STANDARD
END:VTIMEZONE
BEGIN:VEVENT
DTSTART;TZID=UTC:20240808T210000
DTEND;TZID=UTC:20240808T230000
DTSTAMP:20260421T041852
CREATED:20240710T165021Z
LAST-MODIFIED:20240710T220246Z
UID:20667-1723150800-1723158000@connectingyourvision.org
SUMMARY:If God is with you who can be against you?
DESCRIPTION:Event: If God is with you\, who can be against you? \nHosted By: Pastors Allain and Christine Lepine\nSpecial Guest: Dr. Randy Hooper \nJoin us for a night of inspiration and spiritual empowerment at our event “If God is with you\, who can be against you?”. This gathering will be a time of reflection\, worship\, and profound teaching. Pastors Allain and Christine Lepine\, along with special guest Dr. Randy Hooper\, will share powerful messages that will help you find strength and hope in any circumstance. \nDate and Time: 19:00 – Sunday 11:00 AM\nLocation: Native sons hall 360 Cliffe Ave\, Courtenay\, BC V9N 2H9 \nDon’t miss this opportunity to renew your faith and remember that with God by your side\, nothing and no one can stand against you. We look forward to seeing you there!
URL:https://connectingyourvision.org/event/if-god-is-with-you-who-can-be-against-you-3/
LOCATION:Social Media\, United States
CATEGORIES:Church
ATTACH;FMTTYPE=image/jpeg:https://connectingyourvision.org/wp-content/uploads/2020/09/Para-WEB.jpg
END:VEVENT
END:VCALENDAR