BEGIN:VCALENDAR
VERSION:2.0
PRODID:-//Connecting your Vision - ECPv6.15.20//NONSGML v1.0//EN
CALSCALE:GREGORIAN
METHOD:PUBLISH
X-WR-CALNAME:Connecting your Vision
X-ORIGINAL-URL:https://connectingyourvision.org
X-WR-CALDESC:Events for Connecting your Vision
REFRESH-INTERVAL;VALUE=DURATION:PT1H
X-Robots-Tag:noindex
X-PUBLISHED-TTL:PT1H
BEGIN:VTIMEZONE
TZID:UTC
BEGIN:STANDARD
TZOFFSETFROM:+0000
TZOFFSETTO:+0000
TZNAME:UTC
DTSTART:20240101T000000
END:STANDARD
END:VTIMEZONE
BEGIN:VEVENT
DTSTART;TZID=UTC:20250430T103000
DTEND;TZID=UTC:20250504T190000
DTSTAMP:20260420T114718
CREATED:20250404T190401Z
LAST-MODIFIED:20250404T190401Z
UID:23139-1746009000-1746385200@connectingyourvision.org
SUMMARY:GOD IS WITH YOU!
DESCRIPTION:
URL:https://connectingyourvision.org/event/god-is-with-you-3/
LOCATION:riverchurchkc\, 3340 Woodend Ave.\, Kansas City\, KS\, United States\, Kansas\, Kansas\, KS\, 3340\, United States
CATEGORIES:Church
ATTACH;FMTTYPE=image/jpeg:https://connectingyourvision.org/wp-content/uploads/2025/04/487954218_1092073302954205_6676296713606984993_n.jpg
END:VEVENT
END:VCALENDAR