BEGIN:VCALENDAR
VERSION:2.0
PRODID:-//Connecting your Vision - ECPv6.15.20//NONSGML v1.0//EN
CALSCALE:GREGORIAN
METHOD:PUBLISH
X-ORIGINAL-URL:https://connectingyourvision.org
X-WR-CALDESC:Events for Connecting your Vision
REFRESH-INTERVAL;VALUE=DURATION:PT1H
X-Robots-Tag:noindex
X-PUBLISHED-TTL:PT1H
BEGIN:VTIMEZONE
TZID:UTC
BEGIN:STANDARD
TZOFFSETFROM:+0000
TZOFFSETTO:+0000
TZNAME:UTC
DTSTART:20240101T000000
END:STANDARD
END:VTIMEZONE
BEGIN:VEVENT
DTSTART;TZID=UTC:20260322T100000
DTEND;TZID=UTC:20260323T140000
DTSTAMP:20260419T135827
CREATED:20240710T164947Z
LAST-MODIFIED:20260218T175915Z
UID:20665-1774173600-1774274400@connectingyourvision.org
SUMMARY:If God is with you who can be against you?
DESCRIPTION:If God is with you… who can be against you? \n\n\nA powerful week is coming to with special guests & .\nGet ready for faith\, direction\, and breakthrough. This is not just a service… it’s a divine appointment.\n\n\n March 2026\n Sunday 22nd – Morning Service 10:00 AM (CT)\n Mon 23rd – Wed 25th – Night Service 6:30 PM\n 21920 Branson Rd\, Poteau\, OK 74953\n www.hosannapoteau.com\n\n\n Come expecting. Leave empowered.\n(Warning: your faith may level up )
URL:https://connectingyourvision.org/event/if-god-is-with-you-who-can-be-against-you-2/
LOCATION:Social Media\, United States
CATEGORIES:Church
ATTACH;FMTTYPE=image/png:https://connectingyourvision.org/wp-content/uploads/2026/02/626475736_4243828862598661_1309257612541766911_n.png
END:VEVENT
BEGIN:VEVENT
DTSTART;TZID=UTC:20260308T190000
DTEND;TZID=UTC:20260309T230000
DTSTAMP:20260419T135827
CREATED:20260218T180232Z
LAST-MODIFIED:20260218T224407Z
UID:23806-1772996400-1773097200@connectingyourvision.org
SUMMARY:4 Nights of Holy Ghost Meetings.
DESCRIPTION:These are not just meetings — they are divine encounters.\nJoin us March 8–11 at World Harvest Church\, Roswell GA\, for 4 Nights of Holy Ghost Meetings.\nCome expecting healing\, breakthrough\, and a fresh move of the Holy Spirit.\nEvery night at 7:00 p.m. (EST).\nDon’t miss what God is about to do.
URL:https://connectingyourvision.org/event/4-nights-of-holy-ghost-meetings/
LOCATION:Social Media\, United States
CATEGORIES:Church
ATTACH;FMTTYPE=image/png:https://connectingyourvision.org/wp-content/uploads/2026/02/4-Nights-of-Holy-Ghost-Meetings-POST.png
END:VEVENT
BEGIN:VEVENT
DTSTART;TZID=UTC:20260222T100000
DTEND;TZID=UTC:20260222T130000
DTSTAMP:20260419T135827
CREATED:20200909T040221Z
LAST-MODIFIED:20260217T022108Z
UID:2056-1771754400-1771765200@connectingyourvision.org
SUMMARY:If God is with you who can be against you?
DESCRIPTION:If God is with you\, no opposition can stop what He has established.\nWhen God stands with His people\, fear loses its voice and faith takes its place.\n\n\nThis is a time to be reminded that you are not standing alone. God goes before you\, strengthens you\, and confirms His Word with power. When His presence is with you\, resistance has no final say.\n\n\nJoin us at Grace Faith Ministries for days of strong teaching\, bold faith\, and spiritual alignment\, as we declare the truth of God’s Word and walk confidently in His promises.\n\n\n February 22nd – 27th\, 2026\n Sunday Morning Service | 10:00 a.m. (EST)\n Monday – Friday Night Services | 7:00 p.m. (EST)\n Napanee\, Ontario\n\n\nRegister here: https://connectingyourvision.org/…/if-god-is-with-you…/\n\n\nCome ready to stand firm.\nCome ready to believe boldly.\nCome ready to move forward knowing God is with you.\n\n\nIf God is with you… who can be against you?\n\n\n— Dr. Randy Hooper
URL:https://connectingyourvision.org/event/if-god-is-with-you-who-can-be-against-you/
LOCATION:Social Media\, United States
CATEGORIES:Church
ATTACH;FMTTYPE=image/jpeg:https://connectingyourvision.org/wp-content/uploads/2020/09/610498087_1941612366420284_1960384576819651792_n-1.jpg
END:VEVENT
BEGIN:VEVENT
DTSTART;TZID=UTC:20260104T100000
DTEND;TZID=UTC:20260107T190000
DTSTAMP:20260419T135827
CREATED:20250929T024022Z
LAST-MODIFIED:20251211T183205Z
UID:23430-1767520800-1767812400@connectingyourvision.org
SUMMARY:God is with you
DESCRIPTION:CONNECTING YOUR VISIONINTERNATIONAL MINISTRY \nIF YOUR HOUSE IS NOT IN ORDER\, GOD CAN NOT BREATHE ON YOUR HOUSE \nTHE RIVERChurch of Kansas City \nHosted By:Pastors Chris & Briana Zehner \nwith Dr. Randy & Pastor Vicki Hooper \nJANUARY 2026 \nSUNDAY 4thMorning Service 10:00 a.m.Night Service 7:00 p.m. \nMONDAY 5th\, TUESDAY 6th and WEDNESDAY 7thNight Service 7:00 p.m. \n3340 Woodend Ave\, Kansas City\, Kansas 66106www.riverchurchkansascity.com
URL:https://connectingyourvision.org/event/god-is-with-you-5/
CATEGORIES:Church
ATTACH;FMTTYPE=image/png:https://connectingyourvision.org/wp-content/uploads/2025/09/River-Church-of-Kansas-City-POST.png
END:VEVENT
BEGIN:VEVENT
DTSTART;TZID=UTC:20251026T100000
DTEND;TZID=UTC:20251026T130000
DTSTAMP:20260419T135827
CREATED:20250811T171955Z
LAST-MODIFIED:20250819T155053Z
UID:23341-1761472800-1761483600@connectingyourvision.org
SUMMARY:Blessings are in your faithfulness
DESCRIPTION:Blessings are in your faithfulness  \n\nWhen you choose to trust God completely\, even in the waiting\, He pours out blessings you never imagined.  Keep walking in faith — your breakthrough is on the way! \n\nOctober 26th – 29th\n#FaithOverFear #GodsTiming #TrustHim #FaithJourney #Blessings #ChristianMotivation #BibleVerse #Inspiration #FaithBased #TrendingNow\n\n\n\n\n\n\n\n\n\n Register today and take the next step toward your breakthrough! \n\n\n\n\n\n\n\n\n\nhttps://connectingyourvision.org/blessings-are-in-your-faithfulness/
URL:https://connectingyourvision.org/event/blessings-are-in-your-faithfulness/
CATEGORIES:Church
ATTACH;FMTTYPE=image/png:https://connectingyourvision.org/wp-content/uploads/2025/08/521969476_4002600819996654_3892822838995737853_n.png
END:VEVENT
BEGIN:VEVENT
DTSTART;TZID=UTC:20251015T080000
DTEND;TZID=UTC:20251019T190000
DTSTAMP:20260419T135827
CREATED:20250730T225023Z
LAST-MODIFIED:20250916T235414Z
UID:23299-1760515200-1760900400@connectingyourvision.org
SUMMARY:The River at Ocala Church
DESCRIPTION:Hosted by Senior Pastors Mike & Pam Liuzzi\n\nAddress: 4460 SE Maricamp Road\, Ocala\, FL 34480\nOctober 15th at 7:00 PM\, 18th Saturday Leader Meeting 10:00 AM\, 19th Sunday Service 10:30 AM\n\n\n\n\n  \n\n\n\n Your name\n \n \n Your email\n \n \n Subject\n \n \n Your message (optional)
URL:https://connectingyourvision.org/event/23299/
CATEGORIES:Church
ATTACH;FMTTYPE=image/png:https://connectingyourvision.org/wp-content/uploads/2025/07/542906699_1127354726008589_6295531568724461387_n-1.png
END:VEVENT
BEGIN:VEVENT
DTSTART;TZID=UTC:20250914T100000
DTEND;TZID=UTC:20250916T140000
DTSTAMP:20260419T135827
CREATED:20250811T172214Z
LAST-MODIFIED:20250819T155145Z
UID:23346-1757844000-1758031200@connectingyourvision.org
SUMMARY:As a Born-Again Believer\, Claim What is Yours!
DESCRIPTION:As a Born-Again Believer\, Claim What is Yours! \n\n\nJoin us at Truth and Fire Ministries in Las Cruces\, NM\, for a powerful week of services that will ignite your faith!\n\n\n September 14th to 20th\, 2025\n Hosted by Senior Pastors Sage & Danah Theurer\n Special Guests: Dr. Randy & Vicki Hooper\n\n\n Location: 102 W. Conway Ave\, Las Cruces\, NM 88005\n\n\n Service Schedule:\n\n\nSunday Morning Service – 10:00 AM (MTZ)\n\n\nMonday to Friday Night Services – 6:30 PM\n\n\nSaturday Leaders Meeting\n\n\nDon’t miss this divine appointment! Come ready to receive what God has prepared for you. \n\n\n\n\n\n“Don’t Miss the Supernatural Move – Save Your Spot” \n\n\n\n\n\n\n\n\n  \n\n\n\n Your name\n \n \n Your email\n \n \n Subject\n \n \n Your message (optional)
URL:https://connectingyourvision.org/event/as-a-born-again-believer-claim-what-is-yours/
CATEGORIES:Church
ATTACH;FMTTYPE=image/png:https://connectingyourvision.org/wp-content/uploads/2025/08/Truth-and-Fire-Ministries-POST.png
END:VEVENT
BEGIN:VEVENT
DTSTART;TZID=UTC:20250601T103000
DTEND;TZID=UTC:20250601T130000
DTSTAMP:20260419T135827
CREATED:20250521T162210Z
LAST-MODIFIED:20250521T162210Z
UID:23162-1748773800-1748782800@connectingyourvision.org
SUMMARY:Breakthrough
DESCRIPTION:
URL:https://connectingyourvision.org/event/breakthrough-3/
LOCATION:Words of Life Church\, 20051 NE 16th Place North Miami Beach\, FL 33179\, Miami\, 33179\, United States
CATEGORIES:Church
ATTACH;FMTTYPE=image/jpeg:https://connectingyourvision.org/wp-content/uploads/2025/05/EVENTO.jpg
END:VEVENT
BEGIN:VEVENT
DTSTART;TZID=UTC:20250530T193000
DTEND;TZID=UTC:20250530T210000
DTSTAMP:20260419T135827
CREATED:20250521T162111Z
LAST-MODIFIED:20250521T162111Z
UID:23160-1748633400-1748638800@connectingyourvision.org
SUMMARY:Breakthrough
DESCRIPTION:
URL:https://connectingyourvision.org/event/breakthrough-2/
LOCATION:Words of Life Church\, 20051 NE 16th Place North Miami Beach\, FL 33179\, Miami\, 33179\, United States
CATEGORIES:Church
ATTACH;FMTTYPE=image/jpeg:https://connectingyourvision.org/wp-content/uploads/2025/05/EVENTO.jpg
END:VEVENT
BEGIN:VEVENT
DTSTART;TZID=UTC:20250528T193000
DTEND;TZID=UTC:20250528T210000
DTSTAMP:20260419T135827
CREATED:20250521T162022Z
LAST-MODIFIED:20250521T162022Z
UID:23156-1748460600-1748466000@connectingyourvision.org
SUMMARY:Breakthrough
DESCRIPTION:
URL:https://connectingyourvision.org/event/breakthrough/
LOCATION:Words of Life Church\, 20051 NE 16th Place North Miami Beach\, FL 33179\, Miami\, 33179\, United States
CATEGORIES:Church
ATTACH;FMTTYPE=image/jpeg:https://connectingyourvision.org/wp-content/uploads/2025/05/EVENTO.jpg
END:VEVENT
BEGIN:VEVENT
DTSTART;TZID=UTC:20250518T100000
DTEND;TZID=UTC:20250518T130000
DTSTAMP:20260419T135827
CREATED:20250404T190943Z
LAST-MODIFIED:20250404T191047Z
UID:23144-1747562400-1747573200@connectingyourvision.org
SUMMARY:GOD IS WITH YOU!
DESCRIPTION:
URL:https://connectingyourvision.org/event/god-is-with-you-4/
LOCATION:riverfortmyers\, 7051 Cypress Terrace suite 204\, Fort Myers\, FL\, United States\, Florida\, FL\, 7051\, United States
CATEGORIES:Church
ATTACH;FMTTYPE=image/png:https://connectingyourvision.org/wp-content/uploads/2025/04/486676946_651971714214970_8457785470951354037_n.png
END:VEVENT
BEGIN:VEVENT
DTSTART;TZID=UTC:20250430T103000
DTEND;TZID=UTC:20250504T190000
DTSTAMP:20260419T135827
CREATED:20250404T190401Z
LAST-MODIFIED:20250404T190401Z
UID:23139-1746009000-1746385200@connectingyourvision.org
SUMMARY:GOD IS WITH YOU!
DESCRIPTION:
URL:https://connectingyourvision.org/event/god-is-with-you-3/
LOCATION:riverchurchkc\, 3340 Woodend Ave.\, Kansas City\, KS\, United States\, Kansas\, Kansas\, KS\, 3340\, United States
CATEGORIES:Church
ATTACH;FMTTYPE=image/jpeg:https://connectingyourvision.org/wp-content/uploads/2025/04/487954218_1092073302954205_6676296713606984993_n.jpg
END:VEVENT
BEGIN:VEVENT
DTSTART;TZID=UTC:20250413T103000
DTEND;TZID=UTC:20250420T190000
DTSTAMP:20260419T135827
CREATED:20250404T185943Z
LAST-MODIFIED:20250404T190030Z
UID:23135-1744540200-1745175600@connectingyourvision.org
SUMMARY:He is Alive!!
DESCRIPTION:
URL:https://connectingyourvision.org/event/he-is-alive/
LOCATION:RIVVER CHURCH\, 3622 kNOWLESSVILE RD. kNOWLESSVILE NY 14479\, New York\, NY\, 14479\, United States
CATEGORIES:Church
ATTACH;FMTTYPE=image/jpeg:https://connectingyourvision.org/wp-content/uploads/2025/04/485748996_18304533514229912_4854532723184705229_n.jpg
END:VEVENT
BEGIN:VEVENT
DTSTART;TZID=UTC:20250321T180000
DTEND;TZID=UTC:20250321T210000
DTSTAMP:20260419T135827
CREATED:20250225T180215Z
LAST-MODIFIED:20250225T180215Z
UID:23110-1742580000-1742590800@connectingyourvision.org
SUMMARY:If God is with you\, who can be against you?
DESCRIPTION:
URL:https://connectingyourvision.org/event/if-god-is-with-you-who-can-be-against-you-13/
LOCATION:RIVVER CHURCH\, 3622 kNOWLESSVILE RD. kNOWLESSVILE NY 14479\, New York\, NY\, 14479\, United States
CATEGORIES:Church
ATTACH;FMTTYPE=image/png:https://connectingyourvision.org/wp-content/uploads/2025/02/evento-NY.png
END:VEVENT
BEGIN:VEVENT
DTSTART;TZID=UTC:20250320T180000
DTEND;TZID=UTC:20250320T210000
DTSTAMP:20260419T135827
CREATED:20250225T180118Z
LAST-MODIFIED:20250225T180118Z
UID:23108-1742493600-1742504400@connectingyourvision.org
SUMMARY:If God is with you\, who can be against you?
DESCRIPTION:
URL:https://connectingyourvision.org/event/if-god-is-with-you-who-can-be-against-you-12/
LOCATION:RIVVER CHURCH\, 3622 kNOWLESSVILE RD. kNOWLESSVILE NY 14479\, New York\, NY\, 14479\, United States
CATEGORIES:Church
ATTACH;FMTTYPE=image/png:https://connectingyourvision.org/wp-content/uploads/2025/02/evento-NY.png
END:VEVENT
BEGIN:VEVENT
DTSTART;TZID=UTC:20250319T180000
DTEND;TZID=UTC:20250319T210000
DTSTAMP:20260419T135827
CREATED:20250225T180012Z
LAST-MODIFIED:20250225T180012Z
UID:23106-1742407200-1742418000@connectingyourvision.org
SUMMARY:If God is with you\, who can be against you?
DESCRIPTION:
URL:https://connectingyourvision.org/event/if-god-is-with-you-who-can-be-against-you-11/
LOCATION:RIVVER CHURCH\, 3622 kNOWLESSVILE RD. kNOWLESSVILE NY 14479\, New York\, NY\, 14479\, United States
CATEGORIES:Church
ATTACH;FMTTYPE=image/png:https://connectingyourvision.org/wp-content/uploads/2025/02/evento-NY.png
END:VEVENT
BEGIN:VEVENT
DTSTART;TZID=UTC:20250318T180000
DTEND;TZID=UTC:20250318T210000
DTSTAMP:20260419T135827
CREATED:20250225T175921Z
LAST-MODIFIED:20250225T175921Z
UID:23104-1742320800-1742331600@connectingyourvision.org
SUMMARY:If God is with you\, who can be against you?
DESCRIPTION:
URL:https://connectingyourvision.org/event/if-god-is-with-you-who-can-be-against-you-10/
LOCATION:RIVVER CHURCH\, 3622 kNOWLESSVILE RD. kNOWLESSVILE NY 14479\, New York\, NY\, 14479\, United States
CATEGORIES:Church
ATTACH;FMTTYPE=image/png:https://connectingyourvision.org/wp-content/uploads/2025/02/evento-NY.png
END:VEVENT
BEGIN:VEVENT
DTSTART;TZID=UTC:20250317T180000
DTEND;TZID=UTC:20250317T210000
DTSTAMP:20260419T135827
CREATED:20250225T175444Z
LAST-MODIFIED:20250225T175444Z
UID:23098-1742234400-1742245200@connectingyourvision.org
SUMMARY:If God is with you\, who can be against you?
DESCRIPTION:
URL:https://connectingyourvision.org/event/if-god-is-with-you-who-can-be-against-you-9/
LOCATION:RIVVER CHURCH\, 3622 kNOWLESSVILE RD. kNOWLESSVILE NY 14479\, New York\, NY\, 14479\, United States
CATEGORIES:Church
ATTACH;FMTTYPE=image/png:https://connectingyourvision.org/wp-content/uploads/2025/02/evento-NY.png
END:VEVENT
BEGIN:VEVENT
DTSTART;TZID=UTC:20250316T100000
DTEND;TZID=UTC:20250316T130000
DTSTAMP:20260419T135827
CREATED:20250225T174615Z
LAST-MODIFIED:20250225T175256Z
UID:23093-1742119200-1742130000@connectingyourvision.org
SUMMARY:If God is with you\, who can be against you?
DESCRIPTION:
URL:https://connectingyourvision.org/event/if-god-is-with-you-who-can-be-against-you-8/
LOCATION:RIVVER CHURCH\, 3622 kNOWLESSVILE RD. kNOWLESSVILE NY 14479\, New York\, NY\, 14479\, United States
CATEGORIES:Church
ATTACH;FMTTYPE=image/png:https://connectingyourvision.org/wp-content/uploads/2025/02/evento-NY.png
END:VEVENT
BEGIN:VEVENT
DTSTART;TZID=UTC:20250131T190000
DTEND;TZID=UTC:20250131T210000
DTSTAMP:20260419T135827
CREATED:20250104T163118Z
LAST-MODIFIED:20250104T163118Z
UID:23073-1738350000-1738357200@connectingyourvision.org
SUMMARY:PROMISES OF GOD
DESCRIPTION:
URL:https://connectingyourvision.org/event/promises-of-god-6/
LOCATION:Beaming Hope Church\, 11000 110th ave N Largo\, FL 33778\, FL\, 33778\, United States
CATEGORIES:Church
ATTACH;FMTTYPE=image/jpeg:https://connectingyourvision.org/wp-content/uploads/2025/01/470206844_3810604325866519_5609805520114340359_n.jpg
END:VEVENT
BEGIN:VEVENT
DTSTART;TZID=UTC:20250130T190000
DTEND;TZID=UTC:20250130T210000
DTSTAMP:20260419T135827
CREATED:20250104T163027Z
LAST-MODIFIED:20250104T163027Z
UID:23071-1738263600-1738270800@connectingyourvision.org
SUMMARY:PROMISES OF GOD
DESCRIPTION:
URL:https://connectingyourvision.org/event/promises-of-god-5/
LOCATION:Beaming Hope Church\, 11000 110th ave N Largo\, FL 33778\, FL\, 33778\, United States
CATEGORIES:Church
ATTACH;FMTTYPE=image/jpeg:https://connectingyourvision.org/wp-content/uploads/2025/01/470206844_3810604325866519_5609805520114340359_n.jpg
END:VEVENT
BEGIN:VEVENT
DTSTART;TZID=UTC:20250129T190000
DTEND;TZID=UTC:20250129T210000
DTSTAMP:20260419T135827
CREATED:20250104T162933Z
LAST-MODIFIED:20250104T162933Z
UID:23069-1738177200-1738184400@connectingyourvision.org
SUMMARY:PROMISES OF GOD
DESCRIPTION:
URL:https://connectingyourvision.org/event/promises-of-god-4/
LOCATION:Beaming Hope Church\, 11000 110th ave N Largo\, FL 33778\, FL\, 33778\, United States
CATEGORIES:Church
ATTACH;FMTTYPE=image/jpeg:https://connectingyourvision.org/wp-content/uploads/2025/01/470206844_3810604325866519_5609805520114340359_n.jpg
END:VEVENT
BEGIN:VEVENT
DTSTART;TZID=UTC:20250128T190000
DTEND;TZID=UTC:20250128T210000
DTSTAMP:20260419T135827
CREATED:20250104T162834Z
LAST-MODIFIED:20250104T162834Z
UID:23067-1738090800-1738098000@connectingyourvision.org
SUMMARY:PROMISES OF GOD
DESCRIPTION:
URL:https://connectingyourvision.org/event/promises-of-god-3/
LOCATION:Beaming Hope Church\, 11000 110th ave N Largo\, FL 33778\, FL\, 33778\, United States
CATEGORIES:Church
ATTACH;FMTTYPE=image/jpeg:https://connectingyourvision.org/wp-content/uploads/2025/01/470206844_3810604325866519_5609805520114340359_n.jpg
END:VEVENT
BEGIN:VEVENT
DTSTART;TZID=UTC:20250127T190000
DTEND;TZID=UTC:20250127T210000
DTSTAMP:20260419T135827
CREATED:20250104T162746Z
LAST-MODIFIED:20250104T162746Z
UID:23065-1738004400-1738011600@connectingyourvision.org
SUMMARY:PROMISES OF GOD
DESCRIPTION:
URL:https://connectingyourvision.org/event/promises-of-god-2/
LOCATION:Beaming Hope Church\, 11000 110th ave N Largo\, FL 33778\, FL\, 33778\, United States
CATEGORIES:Church
ATTACH;FMTTYPE=image/jpeg:https://connectingyourvision.org/wp-content/uploads/2025/01/470206844_3810604325866519_5609805520114340359_n.jpg
END:VEVENT
BEGIN:VEVENT
DTSTART;TZID=UTC:20250126T100000
DTEND;TZID=UTC:20250126T120000
DTSTAMP:20260419T135827
CREATED:20250104T162613Z
LAST-MODIFIED:20250104T162613Z
UID:23061-1737885600-1737892800@connectingyourvision.org
SUMMARY:PROMISES OF GOD
DESCRIPTION:
URL:https://connectingyourvision.org/event/promises-of-god/
LOCATION:Beaming Hope Church\, 11000 110th ave N Largo\, FL 33778\, FL\, 33778\, United States
CATEGORIES:Church
ATTACH;FMTTYPE=image/jpeg:https://connectingyourvision.org/wp-content/uploads/2025/01/470206844_3810604325866519_5609805520114340359_n.jpg
END:VEVENT
BEGIN:VEVENT
DTSTART;TZID=UTC:20250117T180000
DTEND;TZID=UTC:20250117T213000
DTSTAMP:20260419T135827
CREATED:20241213T192331Z
LAST-MODIFIED:20241213T192331Z
UID:23057-1737136800-1737149400@connectingyourvision.org
SUMMARY:THE FAVOR OF GOD
DESCRIPTION:
URL:https://connectingyourvision.org/event/the-favor-of-god-6/
LOCATION:Modesto Central Plaza\, Modesto Central Plaza\, 1001 K St\, Modesto CA 95356\, Modesto\, CA\, 95356\, United States
CATEGORIES:Church
ATTACH;FMTTYPE=image/png:https://connectingyourvision.org/wp-content/uploads/2024/12/Mesa-de-trabajo-11.png
END:VEVENT
BEGIN:VEVENT
DTSTART;TZID=UTC:20250116T180000
DTEND;TZID=UTC:20250116T213000
DTSTAMP:20260419T135827
CREATED:20241213T192200Z
LAST-MODIFIED:20241213T192200Z
UID:23055-1737050400-1737063000@connectingyourvision.org
SUMMARY:THE FAVOR OF GOD
DESCRIPTION:
URL:https://connectingyourvision.org/event/the-favor-of-god-5/
LOCATION:Modesto Central Plaza\, Modesto Central Plaza\, 1001 K St\, Modesto CA 95356\, Modesto\, CA\, 95356\, United States
CATEGORIES:Church
ATTACH;FMTTYPE=image/png:https://connectingyourvision.org/wp-content/uploads/2024/12/Mesa-de-trabajo-11.png
END:VEVENT
BEGIN:VEVENT
DTSTART;TZID=UTC:20250115T180000
DTEND;TZID=UTC:20250115T213000
DTSTAMP:20260419T135827
CREATED:20241213T191910Z
LAST-MODIFIED:20241213T191910Z
UID:23048-1736964000-1736976600@connectingyourvision.org
SUMMARY:THE FAVOR OF GOD
DESCRIPTION:
URL:https://connectingyourvision.org/event/the-favor-of-god-4/
LOCATION:Modesto Central Plaza\, Modesto Central Plaza\, 1001 K St\, Modesto CA 95356\, Modesto\, CA\, 95356\, United States
CATEGORIES:Church
ATTACH;FMTTYPE=image/png:https://connectingyourvision.org/wp-content/uploads/2024/12/Mesa-de-trabajo-11.png
END:VEVENT
BEGIN:VEVENT
DTSTART;TZID=UTC:20250114T180000
DTEND;TZID=UTC:20250114T213000
DTSTAMP:20260419T135827
CREATED:20241213T191719Z
LAST-MODIFIED:20241213T191719Z
UID:23046-1736877600-1736890200@connectingyourvision.org
SUMMARY:THE FAVOR OF GOD
DESCRIPTION:
URL:https://connectingyourvision.org/event/the-favor-of-god-3/
LOCATION:Modesto Central Plaza\, Modesto Central Plaza\, 1001 K St\, Modesto CA 95356\, Modesto\, CA\, 95356\, United States
CATEGORIES:Church
ATTACH;FMTTYPE=image/png:https://connectingyourvision.org/wp-content/uploads/2024/12/Mesa-de-trabajo-11.png
END:VEVENT
BEGIN:VEVENT
DTSTART;TZID=UTC:20250113T180000
DTEND;TZID=UTC:20250113T213000
DTSTAMP:20260419T135827
CREATED:20241213T191544Z
LAST-MODIFIED:20241213T191544Z
UID:23044-1736791200-1736803800@connectingyourvision.org
SUMMARY:THE FAVOR OF GOD
DESCRIPTION:
URL:https://connectingyourvision.org/event/the-favor-of-god-2/
LOCATION:Modesto Central Plaza\, Modesto Central Plaza\, 1001 K St\, Modesto CA 95356\, Modesto\, CA\, 95356\, United States
CATEGORIES:Church
ATTACH;FMTTYPE=image/png:https://connectingyourvision.org/wp-content/uploads/2024/12/Mesa-de-trabajo-11.png
ORGANIZER;CN="Pastor Pedro":MAILTO:info@limitlessministries.net
END:VEVENT
END:VCALENDAR