BEGIN:VCALENDAR
VERSION:2.0
PRODID:-//Connecting your Vision - ECPv6.15.20//NONSGML v1.0//EN
CALSCALE:GREGORIAN
METHOD:PUBLISH
X-WR-CALNAME:Connecting your Vision
X-ORIGINAL-URL:https://connectingyourvision.org
X-WR-CALDESC:Events for Connecting your Vision
REFRESH-INTERVAL;VALUE=DURATION:PT1H
X-Robots-Tag:noindex
X-PUBLISHED-TTL:PT1H
BEGIN:VTIMEZONE
TZID:UTC
BEGIN:STANDARD
TZOFFSETFROM:+0000
TZOFFSETTO:+0000
TZNAME:UTC
DTSTART:20230101T000000
END:STANDARD
END:VTIMEZONE
BEGIN:VEVENT
DTSTART;TZID=UTC:20250126T100000
DTEND;TZID=UTC:20250126T120000
DTSTAMP:20260419T174431
CREATED:20250104T162613Z
LAST-MODIFIED:20250104T162613Z
UID:23061-1737885600-1737892800@connectingyourvision.org
SUMMARY:PROMISES OF GOD
DESCRIPTION:
URL:https://connectingyourvision.org/event/promises-of-god/
LOCATION:Beaming Hope Church\, 11000 110th ave N Largo\, FL 33778\, FL\, 33778\, United States
CATEGORIES:Church
ATTACH;FMTTYPE=image/jpeg:https://connectingyourvision.org/wp-content/uploads/2025/01/470206844_3810604325866519_5609805520114340359_n.jpg
END:VEVENT
BEGIN:VEVENT
DTSTART;TZID=UTC:20250117T180000
DTEND;TZID=UTC:20250117T213000
DTSTAMP:20260419T174431
CREATED:20241213T192331Z
LAST-MODIFIED:20241213T192331Z
UID:23057-1737136800-1737149400@connectingyourvision.org
SUMMARY:THE FAVOR OF GOD
DESCRIPTION:
URL:https://connectingyourvision.org/event/the-favor-of-god-6/
LOCATION:Modesto Central Plaza\, Modesto Central Plaza\, 1001 K St\, Modesto CA 95356\, Modesto\, CA\, 95356\, United States
CATEGORIES:Church
ATTACH;FMTTYPE=image/png:https://connectingyourvision.org/wp-content/uploads/2024/12/Mesa-de-trabajo-11.png
END:VEVENT
BEGIN:VEVENT
DTSTART;TZID=UTC:20250116T180000
DTEND;TZID=UTC:20250116T213000
DTSTAMP:20260419T174431
CREATED:20241213T192200Z
LAST-MODIFIED:20241213T192200Z
UID:23055-1737050400-1737063000@connectingyourvision.org
SUMMARY:THE FAVOR OF GOD
DESCRIPTION:
URL:https://connectingyourvision.org/event/the-favor-of-god-5/
LOCATION:Modesto Central Plaza\, Modesto Central Plaza\, 1001 K St\, Modesto CA 95356\, Modesto\, CA\, 95356\, United States
CATEGORIES:Church
ATTACH;FMTTYPE=image/png:https://connectingyourvision.org/wp-content/uploads/2024/12/Mesa-de-trabajo-11.png
END:VEVENT
BEGIN:VEVENT
DTSTART;TZID=UTC:20250115T180000
DTEND;TZID=UTC:20250115T213000
DTSTAMP:20260419T174431
CREATED:20241213T191910Z
LAST-MODIFIED:20241213T191910Z
UID:23048-1736964000-1736976600@connectingyourvision.org
SUMMARY:THE FAVOR OF GOD
DESCRIPTION:
URL:https://connectingyourvision.org/event/the-favor-of-god-4/
LOCATION:Modesto Central Plaza\, Modesto Central Plaza\, 1001 K St\, Modesto CA 95356\, Modesto\, CA\, 95356\, United States
CATEGORIES:Church
ATTACH;FMTTYPE=image/png:https://connectingyourvision.org/wp-content/uploads/2024/12/Mesa-de-trabajo-11.png
END:VEVENT
BEGIN:VEVENT
DTSTART;TZID=UTC:20250114T180000
DTEND;TZID=UTC:20250114T213000
DTSTAMP:20260419T174431
CREATED:20241213T191719Z
LAST-MODIFIED:20241213T191719Z
UID:23046-1736877600-1736890200@connectingyourvision.org
SUMMARY:THE FAVOR OF GOD
DESCRIPTION:
URL:https://connectingyourvision.org/event/the-favor-of-god-3/
LOCATION:Modesto Central Plaza\, Modesto Central Plaza\, 1001 K St\, Modesto CA 95356\, Modesto\, CA\, 95356\, United States
CATEGORIES:Church
ATTACH;FMTTYPE=image/png:https://connectingyourvision.org/wp-content/uploads/2024/12/Mesa-de-trabajo-11.png
END:VEVENT
BEGIN:VEVENT
DTSTART;TZID=UTC:20250113T180000
DTEND;TZID=UTC:20250113T213000
DTSTAMP:20260419T174431
CREATED:20241213T191544Z
LAST-MODIFIED:20241213T191544Z
UID:23044-1736791200-1736803800@connectingyourvision.org
SUMMARY:THE FAVOR OF GOD
DESCRIPTION:
URL:https://connectingyourvision.org/event/the-favor-of-god-2/
LOCATION:Modesto Central Plaza\, Modesto Central Plaza\, 1001 K St\, Modesto CA 95356\, Modesto\, CA\, 95356\, United States
CATEGORIES:Church
ATTACH;FMTTYPE=image/png:https://connectingyourvision.org/wp-content/uploads/2024/12/Mesa-de-trabajo-11.png
ORGANIZER;CN="Pastor Pedro":MAILTO:info@limitlessministries.net
END:VEVENT
BEGIN:VEVENT
DTSTART;TZID=UTC:20250112T110000
DTEND;TZID=UTC:20250112T130000
DTSTAMP:20260419T174431
CREATED:20241213T191336Z
LAST-MODIFIED:20241213T191626Z
UID:23039-1736679600-1736686800@connectingyourvision.org
SUMMARY:THE FAVOR OF GOD
DESCRIPTION:
URL:https://connectingyourvision.org/event/the-favor-of-god/
LOCATION:Modesto Central Plaza\, Modesto Central Plaza\, 1001 K St\, Modesto CA 95356\, Modesto\, CA\, 95356\, United States
CATEGORIES:Church
ATTACH;FMTTYPE=image/png:https://connectingyourvision.org/wp-content/uploads/2024/12/Mesa-de-trabajo-11.png
END:VEVENT
BEGIN:VEVENT
DTSTART;TZID=UTC:20241020T100000
DTEND;TZID=UTC:20241020T130000
DTSTAMP:20260419T174431
CREATED:20241002T215144Z
LAST-MODIFIED:20241002T230040Z
UID:22965-1729418400-1729429200@connectingyourvision.org
SUMMARY:Leader Meeting
DESCRIPTION:Event: If God is with you\, who can be against you? \nHosted By: Pastors Allain and Christine Lepine\nSpecial Guest: Dr. Randy Hooper \nJoin us for a night of inspiration and spiritual empowerment at our event “If God is with you\, who can be against you?”. This gathering will be a time of reflection\, worship\, and profound teaching. Pastors Allain and Christine Lepine\, along with special guest Dr. Randy Hooper\, will share powerful messages that will help you find strength and hope in any circumstance. \nDate and Time: 19:00 – Sunday 11:00 AM\nLocation: Native sons hall 360 Cliffe Ave\, Courtenay\, BC V9N 2H9 \nDon’t miss this opportunity to renew your faith and remember that with God by your side\, nothing and no one can stand against you. We look forward to seeing you there!
URL:https://connectingyourvision.org/event/god-is-with-you-2/
LOCATION:CA
CATEGORIES:Church
ATTACH;FMTTYPE=image/png:https://connectingyourvision.org/wp-content/uploads/2024/10/Mesa-de-trabajo-2.png
END:VEVENT
BEGIN:VEVENT
DTSTART;TZID=UTC:20241019T190000
DTEND;TZID=UTC:20241019T220000
DTSTAMP:20260419T174431
CREATED:20241002T214945Z
LAST-MODIFIED:20241002T214945Z
UID:22958-1729364400-1729375200@connectingyourvision.org
SUMMARY:God is with you!
DESCRIPTION:Event: If God is with you\, who can be against you? \nHosted By: Pastors Allain and Christine Lepine\nSpecial Guest: Dr. Randy Hooper \nJoin us for a night of inspiration and spiritual empowerment at our event “If God is with you\, who can be against you?”. This gathering will be a time of reflection\, worship\, and profound teaching. Pastors Allain and Christine Lepine\, along with special guest Dr. Randy Hooper\, will share powerful messages that will help you find strength and hope in any circumstance. \nDate and Time: 19:00 – Sunday 11:00 AM\nLocation: Native sons hall 360 Cliffe Ave\, Courtenay\, BC V9N 2H9 \nDon’t miss this opportunity to renew your faith and remember that with God by your side\, nothing and no one can stand against you. We look forward to seeing you there!
URL:https://connectingyourvision.org/event/god-is-with-you/
LOCATION:CA
CATEGORIES:Church
ATTACH;FMTTYPE=image/png:https://connectingyourvision.org/wp-content/uploads/2024/10/Mesa-de-trabajo-2.png
END:VEVENT
BEGIN:VEVENT
DTSTART;TZID=UTC:20241018T190000
DTEND;TZID=UTC:20241018T220000
DTSTAMP:20260419T174431
CREATED:20241002T213814Z
LAST-MODIFIED:20241002T215014Z
UID:22948-1729278000-1729288800@connectingyourvision.org
SUMMARY:God is with you!
DESCRIPTION:Event: If God is with you\, who can be against you? \nHosted By: Pastors Allain and Christine Lepine\nSpecial Guest: Dr. Randy Hooper \nJoin us for a night of inspiration and spiritual empowerment at our event “If God is with you\, who can be against you?”. This gathering will be a time of reflection\, worship\, and profound teaching. Pastors Allain and Christine Lepine\, along with special guest Dr. Randy Hooper\, will share powerful messages that will help you find strength and hope in any circumstance. \nDate and Time: 19:00 – Sunday 11:00 AM\nLocation: Native sons hall 360 Cliffe Ave\, Courtenay\, BC V9N 2H9 \nDon’t miss this opportunity to renew your faith and remember that with God by your side\, nothing and no one can stand against you. We look forward to seeing you there!
URL:https://connectingyourvision.org/event/if-god-is-with-you-who-can-be-against-you-7/
LOCATION:CA
CATEGORIES:Church
ATTACH;FMTTYPE=image/png:https://connectingyourvision.org/wp-content/uploads/2024/10/Mesa-de-trabajo-2.png
END:VEVENT
BEGIN:VEVENT
DTSTART;TZID=UTC:20240811T110000
DTEND;TZID=UTC:20240811T130000
DTSTAMP:20260419T174431
CREATED:20240710T165246Z
LAST-MODIFIED:20240710T165246Z
UID:20673-1723374000-1723381200@connectingyourvision.org
SUMMARY:If God is with you who can be against you?
DESCRIPTION:Event: If God is with you\, who can be against you? \nHosted By: Pastors Allain and Christine Lepine\nSpecial Guest: Dr. Randy Hooper \nJoin us for a night of inspiration and spiritual empowerment at our event “If God is with you\, who can be against you?”. This gathering will be a time of reflection\, worship\, and profound teaching. Pastors Allain and Christine Lepine\, along with special guest Dr. Randy Hooper\, will share powerful messages that will help you find strength and hope in any circumstance. \nDate and Time: 19:00 – Sunday 11:00 AM\nLocation: Native sons hall 360 Cliffe Ave\, Courtenay\, BC V9N 2H9 \nDon’t miss this opportunity to renew your faith and remember that with God by your side\, nothing and no one can stand against you. We look forward to seeing you there!
URL:https://connectingyourvision.org/event/if-god-is-with-you-who-can-be-against-you-6/
LOCATION:Social Media\, United States
CATEGORIES:Church
ATTACH;FMTTYPE=image/jpeg:https://connectingyourvision.org/wp-content/uploads/2020/09/449396579_841802557867223_128384430241586170_n-1.jpg
END:VEVENT
BEGIN:VEVENT
DTSTART;TZID=UTC:20240810T210000
DTEND;TZID=UTC:20240810T230000
DTSTAMP:20260419T174431
CREATED:20240710T165201Z
LAST-MODIFIED:20240710T220313Z
UID:20671-1723323600-1723330800@connectingyourvision.org
SUMMARY:If God is with you who can be against you?
DESCRIPTION:Event: If God is with you\, who can be against you? \nHosted By: Pastors Allain and Christine Lepine\nSpecial Guest: Dr. Randy Hooper \nJoin us for a night of inspiration and spiritual empowerment at our event “If God is with you\, who can be against you?”. This gathering will be a time of reflection\, worship\, and profound teaching. Pastors Allain and Christine Lepine\, along with special guest Dr. Randy Hooper\, will share powerful messages that will help you find strength and hope in any circumstance. \nDate and Time: 19:00 – Sunday 11:00 AM\nLocation: Native sons hall 360 Cliffe Ave\, Courtenay\, BC V9N 2H9 \nDon’t miss this opportunity to renew your faith and remember that with God by your side\, nothing and no one can stand against you. We look forward to seeing you there!
URL:https://connectingyourvision.org/event/if-god-is-with-you-who-can-be-against-you-5/
LOCATION:Social Media\, United States
CATEGORIES:Church
ATTACH;FMTTYPE=image/jpeg:https://connectingyourvision.org/wp-content/uploads/2020/09/Para-WEB.jpg
END:VEVENT
BEGIN:VEVENT
DTSTART;TZID=UTC:20240809T210000
DTEND;TZID=UTC:20240809T230000
DTSTAMP:20260419T174431
CREATED:20240710T165130Z
LAST-MODIFIED:20240710T165130Z
UID:20669-1723237200-1723244400@connectingyourvision.org
SUMMARY:If God is with you who can be against you?
DESCRIPTION:Event: If God is with you\, who can be against you? \nHosted By: Pastors Allain and Christine Lepine\nSpecial Guest: Dr. Randy Hooper \nJoin us for a night of inspiration and spiritual empowerment at our event “If God is with you\, who can be against you?”. This gathering will be a time of reflection\, worship\, and profound teaching. Pastors Allain and Christine Lepine\, along with special guest Dr. Randy Hooper\, will share powerful messages that will help you find strength and hope in any circumstance. \nDate and Time: 19:00 – Sunday 11:00 AM\nLocation: Native sons hall 360 Cliffe Ave\, Courtenay\, BC V9N 2H9 \nDon’t miss this opportunity to renew your faith and remember that with God by your side\, nothing and no one can stand against you. We look forward to seeing you there!
URL:https://connectingyourvision.org/event/if-god-is-with-you-who-can-be-against-you-4/
LOCATION:Social Media\, United States
CATEGORIES:Church
ATTACH;FMTTYPE=image/jpeg:https://connectingyourvision.org/wp-content/uploads/2020/09/449396579_841802557867223_128384430241586170_n-1.jpg
END:VEVENT
BEGIN:VEVENT
DTSTART;TZID=UTC:20240808T210000
DTEND;TZID=UTC:20240808T230000
DTSTAMP:20260419T174431
CREATED:20240710T165021Z
LAST-MODIFIED:20240710T220246Z
UID:20667-1723150800-1723158000@connectingyourvision.org
SUMMARY:If God is with you who can be against you?
DESCRIPTION:Event: If God is with you\, who can be against you? \nHosted By: Pastors Allain and Christine Lepine\nSpecial Guest: Dr. Randy Hooper \nJoin us for a night of inspiration and spiritual empowerment at our event “If God is with you\, who can be against you?”. This gathering will be a time of reflection\, worship\, and profound teaching. Pastors Allain and Christine Lepine\, along with special guest Dr. Randy Hooper\, will share powerful messages that will help you find strength and hope in any circumstance. \nDate and Time: 19:00 – Sunday 11:00 AM\nLocation: Native sons hall 360 Cliffe Ave\, Courtenay\, BC V9N 2H9 \nDon’t miss this opportunity to renew your faith and remember that with God by your side\, nothing and no one can stand against you. We look forward to seeing you there!
URL:https://connectingyourvision.org/event/if-god-is-with-you-who-can-be-against-you-3/
LOCATION:Social Media\, United States
CATEGORIES:Church
ATTACH;FMTTYPE=image/jpeg:https://connectingyourvision.org/wp-content/uploads/2020/09/Para-WEB.jpg
END:VEVENT
BEGIN:VEVENT
DTSTART;TZID=UTC:20240722T170000
DTEND;TZID=UTC:20240722T183000
DTSTAMP:20260419T174431
CREATED:20240710T173931Z
LAST-MODIFIED:20240719T175548Z
UID:22211-1721667600-1721673000@connectingyourvision.org
SUMMARY:"The Word of God Heals the Broken Hearted."
DESCRIPTION:Join us for a life-changing event: “The Word of God Heals the Broken Hearted.” Discover the profound healing and restoration found in God’s word. Let His love mend your heart and uplift your spirit. \n\n\n Date: Every Monday\n Time: 5 PM PDT\n Location: Online via our social media channels\n\n\nStay connected with us for updates and daily inspiration from the Word of God. Follow us to keep your faith strong and your heart filled with His love.\n\n\nhttps://www.facebook.com/Dr.Randy.Hooper/\nhttps://www.instagram.com/dr.randy.hooper/\nhttps://www.youtube.com/@Dr.Randy.Hooper\n\n\n#faith #hope #healing #Godslove #scripture #spiritualgrowth #christiancommunity #prayer #TrustInGod #HealingThroughFaith #BiblicalWisdom #divinehealing #RenewYourSpirit
URL:https://connectingyourvision.org/event/the-word-of-god/
LOCATION:Social Media\, United States
CATEGORIES:Church
ATTACH;FMTTYPE=image/png:https://connectingyourvision.org/wp-content/uploads/2020/09/Mesa-de-trabajo-1.png
END:VEVENT
END:VCALENDAR