BEGIN:VCALENDAR
VERSION:2.0
PRODID:-//Connecting your Vision - ECPv6.15.20//NONSGML v1.0//EN
CALSCALE:GREGORIAN
METHOD:PUBLISH
X-ORIGINAL-URL:https://connectingyourvision.org
X-WR-CALDESC:Events for Connecting your Vision
REFRESH-INTERVAL;VALUE=DURATION:PT1H
X-Robots-Tag:noindex
X-PUBLISHED-TTL:PT1H
BEGIN:VTIMEZONE
TZID:UTC
BEGIN:STANDARD
TZOFFSETFROM:+0000
TZOFFSETTO:+0000
TZNAME:UTC
DTSTART:20250101T000000
END:STANDARD
END:VTIMEZONE
BEGIN:VEVENT
DTSTART;TZID=UTC:20260104T100000
DTEND;TZID=UTC:20260107T190000
DTSTAMP:20260421T005129
CREATED:20250929T024022Z
LAST-MODIFIED:20251211T183205Z
UID:23430-1767520800-1767812400@connectingyourvision.org
SUMMARY:God is with you
DESCRIPTION:CONNECTING YOUR VISIONINTERNATIONAL MINISTRY \nIF YOUR HOUSE IS NOT IN ORDER\, GOD CAN NOT BREATHE ON YOUR HOUSE \nTHE RIVERChurch of Kansas City \nHosted By:Pastors Chris & Briana Zehner \nwith Dr. Randy & Pastor Vicki Hooper \nJANUARY 2026 \nSUNDAY 4thMorning Service 10:00 a.m.Night Service 7:00 p.m. \nMONDAY 5th\, TUESDAY 6th and WEDNESDAY 7thNight Service 7:00 p.m. \n3340 Woodend Ave\, Kansas City\, Kansas 66106www.riverchurchkansascity.com
URL:https://connectingyourvision.org/event/god-is-with-you-5/
LOCATION:CA
CATEGORIES:Church
ATTACH;FMTTYPE=image/png:https://connectingyourvision.org/wp-content/uploads/2025/09/River-Church-of-Kansas-City-POST.png
END:VEVENT
BEGIN:VEVENT
DTSTART;TZID=UTC:20260222T100000
DTEND;TZID=UTC:20260222T130000
DTSTAMP:20260421T005129
CREATED:20200909T040221Z
LAST-MODIFIED:20260217T022108Z
UID:2056-1771754400-1771765200@connectingyourvision.org
SUMMARY:If God is with you who can be against you?
DESCRIPTION:If God is with you\, no opposition can stop what He has established.\nWhen God stands with His people\, fear loses its voice and faith takes its place.\n\n\nThis is a time to be reminded that you are not standing alone. God goes before you\, strengthens you\, and confirms His Word with power. When His presence is with you\, resistance has no final say.\n\n\nJoin us at Grace Faith Ministries for days of strong teaching\, bold faith\, and spiritual alignment\, as we declare the truth of God’s Word and walk confidently in His promises.\n\n\n February 22nd – 27th\, 2026\n Sunday Morning Service | 10:00 a.m. (EST)\n Monday – Friday Night Services | 7:00 p.m. (EST)\n Napanee\, Ontario\n\n\nRegister here: https://connectingyourvision.org/…/if-god-is-with-you…/\n\n\nCome ready to stand firm.\nCome ready to believe boldly.\nCome ready to move forward knowing God is with you.\n\n\nIf God is with you… who can be against you?\n\n\n— Dr. Randy Hooper
URL:https://connectingyourvision.org/event/if-god-is-with-you-who-can-be-against-you/
LOCATION:Social Media\, United States
CATEGORIES:Church
ATTACH;FMTTYPE=image/jpeg:https://connectingyourvision.org/wp-content/uploads/2020/09/610498087_1941612366420284_1960384576819651792_n-1.jpg
END:VEVENT
BEGIN:VEVENT
DTSTART;TZID=UTC:20260308T190000
DTEND;TZID=UTC:20260309T230000
DTSTAMP:20260421T005129
CREATED:20260218T180232Z
LAST-MODIFIED:20260218T224407Z
UID:23806-1772996400-1773097200@connectingyourvision.org
SUMMARY:4 Nights of Holy Ghost Meetings.
DESCRIPTION:These are not just meetings — they are divine encounters.\nJoin us March 8–11 at World Harvest Church\, Roswell GA\, for 4 Nights of Holy Ghost Meetings.\nCome expecting healing\, breakthrough\, and a fresh move of the Holy Spirit.\nEvery night at 7:00 p.m. (EST).\nDon’t miss what God is about to do.
URL:https://connectingyourvision.org/event/4-nights-of-holy-ghost-meetings/
LOCATION:Social Media\, United States
CATEGORIES:Church
ATTACH;FMTTYPE=image/png:https://connectingyourvision.org/wp-content/uploads/2026/02/4-Nights-of-Holy-Ghost-Meetings-POST.png
END:VEVENT
BEGIN:VEVENT
DTSTART;TZID=UTC:20260322T100000
DTEND;TZID=UTC:20260323T140000
DTSTAMP:20260421T005129
CREATED:20240710T164947Z
LAST-MODIFIED:20260218T175915Z
UID:20665-1774173600-1774274400@connectingyourvision.org
SUMMARY:If God is with you who can be against you?
DESCRIPTION:If God is with you… who can be against you? \n\n\nA powerful week is coming to with special guests & .\nGet ready for faith\, direction\, and breakthrough. This is not just a service… it’s a divine appointment.\n\n\n March 2026\n Sunday 22nd – Morning Service 10:00 AM (CT)\n Mon 23rd – Wed 25th – Night Service 6:30 PM\n 21920 Branson Rd\, Poteau\, OK 74953\n www.hosannapoteau.com\n\n\n Come expecting. Leave empowered.\n(Warning: your faith may level up )
URL:https://connectingyourvision.org/event/if-god-is-with-you-who-can-be-against-you-2/
LOCATION:Social Media\, United States
CATEGORIES:Church
ATTACH;FMTTYPE=image/png:https://connectingyourvision.org/wp-content/uploads/2026/02/626475736_4243828862598661_1309257612541766911_n.png
END:VEVENT
END:VCALENDAR